BEGIN:VCALENDAR
VERSION:2.0
PRODID:-// - ECPv6.11.2.1//NONSGML v1.0//EN
CALSCALE:GREGORIAN
METHOD:PUBLISH
X-ORIGINAL-URL:https://www.langarasu.ca
X-WR-CALDESC:Events for 
REFRESH-INTERVAL;VALUE=DURATION:PT1H
X-Robots-Tag:noindex
X-PUBLISHED-TTL:PT1H
BEGIN:VTIMEZONE
TZID:America/Vancouver
BEGIN:DAYLIGHT
TZOFFSETFROM:-0800
TZOFFSETTO:-0700
TZNAME:PDT
DTSTART:20250309T100000
END:DAYLIGHT
BEGIN:STANDARD
TZOFFSETFROM:-0700
TZOFFSETTO:-0800
TZNAME:PST
DTSTART:20251102T090000
END:STANDARD
END:VTIMEZONE
BEGIN:VEVENT
DTSTART;TZID=America/Vancouver:20250704T120000
DTEND;TZID=America/Vancouver:20250704T150000
DTSTAMP:20260424T073211
CREATED:20250615T185715Z
LAST-MODIFIED:20250731T190153Z
UID:3056-1751630400-1751641200@www.langarasu.ca
SUMMARY:☀️ LSU Beach Party 2025 🌊
DESCRIPTION:Summer’s here — and we’re taking the fun to the beach! Join us for the LSU Beach Party and soak up the sun with games\, snacks\, and great vibes. \n📍 Location: Kitsilano Beach📅 Date: July 4\, 2025🕛 Time: 12:00 PM \nWhat to expect:🏐 Fun beach games🍉 Tasty summer snacks🌴 Chill summer vibes with friends \nImportant Notes:✨ Please bring your own beach gear (towels\, blankets\, sunscreen\, etc.)🚗 Transportation is not provided📋 A signed waiver form is required to attend \nDon’t miss out on one of the most exciting events of the summer — see you at the beach!
URL:https://www.langarasu.ca/event/%e2%98%80%ef%b8%8f-lsu-beach-party-2025-%f0%9f%8c%8a/
LOCATION:Kitsilano Beach\, Canada
CATEGORIES:LSU Events
ATTACH;FMTTYPE=image/png:https://www.langarasu.ca/wp-content/uploads/2025/07/Green-and-Orange-Gradient-Beach-Party-Flyer-1.png
END:VEVENT
END:VCALENDAR