BEGIN:VCALENDAR
VERSION:2.0
PRODID:-// - ECPv6.11.2.1//NONSGML v1.0//EN
CALSCALE:GREGORIAN
METHOD:PUBLISH
X-ORIGINAL-URL:https://www.langarasu.ca
X-WR-CALDESC:Events for 
REFRESH-INTERVAL;VALUE=DURATION:PT1H
X-Robots-Tag:noindex
X-PUBLISHED-TTL:PT1H
BEGIN:VTIMEZONE
TZID:America/Vancouver
BEGIN:DAYLIGHT
TZOFFSETFROM:-0800
TZOFFSETTO:-0700
TZNAME:PDT
DTSTART:20260308T100000
END:DAYLIGHT
BEGIN:STANDARD
TZOFFSETFROM:-0700
TZOFFSETTO:-0800
TZNAME:PST
DTSTART:20261101T090000
END:STANDARD
END:VTIMEZONE
BEGIN:VEVENT
DTSTART;TZID=America/Vancouver:20260225T123000
DTEND;TZID=America/Vancouver:20260225T150000
DTSTAMP:20260421T093618
CREATED:20260218T072111Z
LAST-MODIFIED:20260218T072230Z
UID:3178-1772022600-1772031600@www.langarasu.ca
SUMMARY:🎉🐎 Celebrate Lunar New Year with Us! 🐎🎉
DESCRIPTION:The Langara Students’ Union and Langara Global are pleased to invite students to celebrate Lunar New Year and welcome the Year of the Horse on Wednesday\, February 25 at 12:30 pm in the LSU Upper Lounge. \nThis special event brings our campus community together to recognize and celebrate the rich cultural traditions associated with Lunar New Year\, observed by many communities around the world. The program will begin at 12:30 pm\, followed by a traditional lion dance performance at 1:00 pm\, a vibrant and symbolic celebration meant to bring good fortune and prosperity for the year ahead. \nLunch will be served after the performance\, offering an opportunity to connect with classmates\, and friends while enjoying the festivities. \nAll students are welcome to attend. We look forward to celebrating the new year together in a spirit of community\, culture\, and joy.
URL:https://www.langarasu.ca/event/lunar-new-year-4/
LOCATION:Upper Lounge of our building
CATEGORIES:LSU Events
ATTACH;FMTTYPE=image/jpeg:https://www.langarasu.ca/wp-content/uploads/2026/02/WhatsApp-Image-2026-02-17-at-12.32.35.jpeg
END:VEVENT
END:VCALENDAR