BEGIN:VCALENDAR
VERSION:2.0
PRODID:-// - ECPv6.11.2.1//NONSGML v1.0//EN
CALSCALE:GREGORIAN
METHOD:PUBLISH
X-ORIGINAL-URL:https://www.langarasu.ca
X-WR-CALDESC:Events for 
REFRESH-INTERVAL;VALUE=DURATION:PT1H
X-Robots-Tag:noindex
X-PUBLISHED-TTL:PT1H
BEGIN:VTIMEZONE
TZID:America/Vancouver
BEGIN:DAYLIGHT
TZOFFSETFROM:-0800
TZOFFSETTO:-0700
TZNAME:PDT
DTSTART:20210314T100000
END:DAYLIGHT
BEGIN:STANDARD
TZOFFSETFROM:-0700
TZOFFSETTO:-0800
TZNAME:PST
DTSTART:20211107T090000
END:STANDARD
BEGIN:DAYLIGHT
TZOFFSETFROM:-0800
TZOFFSETTO:-0700
TZNAME:PDT
DTSTART:20220313T100000
END:DAYLIGHT
BEGIN:STANDARD
TZOFFSETFROM:-0700
TZOFFSETTO:-0800
TZNAME:PST
DTSTART:20221106T090000
END:STANDARD
BEGIN:DAYLIGHT
TZOFFSETFROM:-0800
TZOFFSETTO:-0700
TZNAME:PDT
DTSTART:20230312T100000
END:DAYLIGHT
BEGIN:STANDARD
TZOFFSETFROM:-0700
TZOFFSETTO:-0800
TZNAME:PST
DTSTART:20231105T090000
END:STANDARD
BEGIN:DAYLIGHT
TZOFFSETFROM:-0800
TZOFFSETTO:-0700
TZNAME:PDT
DTSTART:20240310T100000
END:DAYLIGHT
BEGIN:STANDARD
TZOFFSETFROM:-0700
TZOFFSETTO:-0800
TZNAME:PST
DTSTART:20241103T090000
END:STANDARD
END:VTIMEZONE
BEGIN:VTIMEZONE
TZID:UTC
BEGIN:STANDARD
TZOFFSETFROM:+0000
TZOFFSETTO:+0000
TZNAME:UTC
DTSTART:20190101T000000
END:STANDARD
END:VTIMEZONE
BEGIN:VEVENT
DTSTART;TZID=America/Vancouver:20241125T120000
DTEND;TZID=America/Vancouver:20241125T140000
DTSTAMP:20260425T074100
CREATED:20241119T001231Z
LAST-MODIFIED:20241119T223459Z
UID:2990-1732536000-1732543200@www.langarasu.ca
SUMMARY:Christmas Cookies Contest
DESCRIPTION:🎄 Christmas Cookie Decorating 🎄\n✨ Let’s Get Festive! ✨\n📅 Date: Monday\, November 25\, 2024\n⏰ Time: 12 PM\n📍 Location: Langara Students’ Union – Upper Lounge\n🍪 All supplies included!\nNut-free options available\n🎁 Start your holiday season with some creative cookie fun!\nFor more info or questions\, contact the LSU reception.\nLet’s make it a sweet holiday! 🌟
URL:https://www.langarasu.ca/event/christmas-cookies-contest/
LOCATION:Upper Lounge of our building
ATTACH;FMTTYPE=image/png:https://www.langarasu.ca/wp-content/uploads/2024/11/Brown-and-White-Ginger-Bread-Workshop-Instagram-Post.png
END:VEVENT
BEGIN:VEVENT
DTSTART;TZID=America/Vancouver:20241113T100000
DTEND;TZID=America/Vancouver:20241113T160000
DTSTAMP:20260425T074100
CREATED:20241111T222022Z
LAST-MODIFIED:20241119T222944Z
UID:2993-1731492000-1731513600@www.langarasu.ca
SUMMARY:Flu Clinic
DESCRIPTION:🛡Protect yourself this flu season!\nEligible students living in BC can get a flu shot at no out-of-pocket cost at the on-campus flu vaccine clinic!\n🗓Wednesday\, Nov. 13\n⏰10:00 am – 4:00 pm\n📍SUB Atrium
URL:https://www.langarasu.ca/event/flu-clinic-2/
LOCATION:Upper Lounge of our building
END:VEVENT
BEGIN:VEVENT
DTSTART;TZID=America/Vancouver:20241031T123000
DTEND;TZID=America/Vancouver:20241031T170000
DTSTAMP:20260425T074100
CREATED:20241017T173504Z
LAST-MODIFIED:20241018T173739Z
UID:2979-1730377800-1730394000@www.langarasu.ca
SUMMARY:Halloween
DESCRIPTION:🎃 Spooktacular Halloween Party! 👻 \nGet ready for a frightfully fun time on October 31 at the LSU Upper Lounge! Enjoy an afternoon packed with treats\, pumpkin carving\, games\, and plenty of thrills! 🎉 \n🕛 Event Begins: 12:30 PM\n🎥 Movie Screening: 2:30 PM \n👗 Costume Contest: Show off your best Halloween look for a chance to win a gift card! 🏆 \nDon’t miss out—bring your friends and join us for a Halloween celebration you won’t forget! 🎉🧡
URL:https://www.langarasu.ca/event/halloween-2/
LOCATION:Upper Lounge of our building
CATEGORIES:LSU Events
ATTACH;FMTTYPE=image/png:https://www.langarasu.ca/wp-content/uploads/2024/10/Orange-and-Black-Illustrative-Halloween-Party-Invitation-Instagram-Post.png
END:VEVENT
BEGIN:VEVENT
DTSTART;TZID=America/Vancouver:20241008T123000
DTEND;TZID=America/Vancouver:20241008T140000
DTSTAMP:20260425T074100
CREATED:20241006T171753Z
LAST-MODIFIED:20241018T172227Z
UID:2972-1728390600-1728396000@www.langarasu.ca
SUMMARY:Provincial All-Candidate Forum
DESCRIPTION:📢 BC Provincial Election All-Candidates Forum\n🗓 October 8 | 🕛 12:30 PM\n📍 LSU Upper Lounge \nJoin us for an exciting discussion with candidates from the upcoming BC Provincial Election: \n\nConservative Party: Bryan Breguet\nNDP: Sunita Dhir\nBC Green Party: Scottford Price (Note: Due to a scheduling conflict\, Scottford Price will only be available from 11:30 AM – 12:20 PM.)\n\nWe’ll kick off with a Land Acknowledgement at 12:30 PM\, so please arrive by 12:20 PM as seating is limited. This is your chance to ask questions and hear directly from the candidates about the issues that matter to you. Don’t miss out! 💬🗳️
URL:https://www.langarasu.ca/event/provincial-all-candidate-forum/
LOCATION:Upper Lounge of our building
CATEGORIES:LSU Events
ATTACH;FMTTYPE=image/jpeg:https://www.langarasu.ca/wp-content/uploads/2024/10/WhatsApp-Image-2024-10-07-at-10.14.52.jpeg
END:VEVENT
BEGIN:VEVENT
DTSTART;TZID=America/Vancouver:20240919T113000
DTEND;TZID=America/Vancouver:20240919T143000
DTSTAMP:20260425T074100
CREATED:20240917T194251Z
LAST-MODIFIED:20241017T195004Z
UID:2968-1726745400-1726756200@www.langarasu.ca
SUMMARY:BBQ Party
DESCRIPTION:Join us for a BBQ at the Langara Students’ Union (Green Space between the LSU Building and B Building) on September 19th\, starting at 11:30 AM (while supplies last)! 🎉 \nEnjoy delicious food\, lively music\, and an awesome atmosphere! Want a FREE BBQ meal? 👉 Follow us on Instagram\, get your friends to do the same\, and show us at the event to claim your meal! \nDon’t miss out on the fun—bring your friends along for an unforgettable time! 🎶
URL:https://www.langarasu.ca/event/bbq-party/
CATEGORIES:LSU Events
ATTACH;FMTTYPE=image/jpeg:https://www.langarasu.ca/wp-content/uploads/2024/10/WhatsApp-Image-2024-10-17-at-12.49.20.jpeg
END:VEVENT
BEGIN:VEVENT
DTSTART;TZID=America/Vancouver:20240531T133000
DTEND;TZID=America/Vancouver:20240531T170000
DTSTAMP:20260425T074100
CREATED:20240528T180539Z
LAST-MODIFIED:20240528T192645Z
UID:2905-1717162200-1717174800@www.langarasu.ca
SUMMARY:Under the Sea Adventure: Student Union Aquarium Trip
DESCRIPTION:Dive into an underwater adventure with the Langara Student Union! Join us for an exciting trip to the Vancouver Aquarium where you can explore the wonders of marine life. Discover fascinating exhibits\, watch captivating sea creature shows\, and enjoy a day of fun and learning with fellow students. Whether you’re a marine biology enthusiast or just looking for a unique outing\, this trip promises an unforgettable experience. Don’t miss out on the chance to see sharks\, dolphins\, colorful fish\, and more up close! Tickets are limited\, so grab yours today and get ready for an aquatic adventure! \nTo Purchase your tickets\, please CLICK HERE. \n\n\n\n\n\n\n\n 
URL:https://www.langarasu.ca/event/under-the-sea-adventure-student-union-aquarium-trip/
LOCATION:Vancouver Aquarium\, 845 Avison Way\, Vancouver\, BC\, V6G 3E2\, Canada
CATEGORIES:LSU Events
ATTACH;FMTTYPE=image/jpeg:https://www.langarasu.ca/wp-content/uploads/2024/05/Male_whale_shark_at_Georgia_Aquarium.jpg
END:VEVENT
BEGIN:VEVENT
DTSTART;TZID=America/Vancouver:20240527T100000
DTEND;TZID=America/Vancouver:20240529T170000
DTSTAMP:20260425T074100
CREATED:20240507T212626Z
LAST-MODIFIED:20240509T214731Z
UID:2884-1716804000-1717002000@www.langarasu.ca
SUMMARY:Notice of Health & Dental Referendum
DESCRIPTION:POLLING: May 27-29\, 2024\nTIME: 10 AM to 5 PM\nLOCATION: Student Union Building (SUB) Upper Lounge\nPreamble:\nLangara Students’ Union Health & Dental Plan Referendum\nThe Langara Students’ Union Health and Dental Plan provides over 11\,000 students access to benefits including but not limited to: prescription drugs\, mental health counselling\, physiotherapy\, massage therapy\, vision and dental.\nService utilization has increased by 30% year-over-year driven primarily by dental claims. Combined with higher inflationary pressures\, this has resulted in plan costs significantly increasing. The current fee structure is not sustainable and requires an increase in order to avoid reducing benefits.\nTherefore\, the LSU Executives direct that a referendum be held among Langara Students’ Union members from May 27-29\, 2024 asking the following question:\n Referendum Question:\nI am in favor of increasing the current LSU Health and Dental Plan fee from $289.62 up to a maximum of $345.00 for the year 2024-2025\, and to adjust the fee up to 10% each year after 2025\, to account for inflation\, if necessary. Members who have equivalent coverage may opt-out from the Health and Dental Plan and receive a full reimbursement.\nAGREE                                                                                               DISAGREE\nThe LSU Executives further direct that the referendum question shall be effectively passed if a majority of those eligible students who vote signify their agreement with the referendum question.\nThe LSU Executives further direct that the current Health and Dental Plan benefits will be significantly reduced to fit within the current fee structure should this referendum question fail.
URL:https://www.langarasu.ca/event/notice-ofhealth-dental-referendum/
LOCATION:Upper Lounge of our building
ATTACH;FMTTYPE=image/png:https://www.langarasu.ca/wp-content/uploads/2024/05/Cream-Modern-Meeting-Invitation-1.png
END:VEVENT
BEGIN:VEVENT
DTSTART;TZID=America/Vancouver:20240214T123000
DTEND;TZID=America/Vancouver:20240214T153000
DTSTAMP:20260425T074100
CREATED:20240212T235230Z
LAST-MODIFIED:20240212T235409Z
UID:2855-1707913800-1707924600@www.langarasu.ca
SUMMARY:Valentine's Day 2024
DESCRIPTION:Join us for an unforgettable Valentine’s Day celebration! Whether you’re spending it with your significant other\, friends\, or treating yourself\, our event promises an evening filled with love\, laughter\, and cherished memories. Indulge in delectable treats\, enjoy live music\, and capture the moment at our photo booth. Let’s make this Valentine’s Day one to remember! ❤️🌹\n 
URL:https://www.langarasu.ca/event/valentines-day-2024/
LOCATION:Upper Lounge of our building
ATTACH;FMTTYPE=image/png:https://www.langarasu.ca/wp-content/uploads/2024/02/Red-Pink-Pastel-Watercolor-Happy-Valentines-Day-Facebook-Post.png
END:VEVENT
BEGIN:VEVENT
DTSTART;TZID=America/Vancouver:20240207T123000
DTEND;TZID=America/Vancouver:20240207T153000
DTSTAMP:20260425T074100
CREATED:20240212T194124Z
LAST-MODIFIED:20240212T194124Z
UID:2851-1707309000-1707319800@www.langarasu.ca
SUMMARY:Lunar New Year
DESCRIPTION:🎉✨ Happy Lunar New Year! 🧧 Join us for a festive celebration filled with joy and good vibes. 🥳🏮 \n📅 Date: Feb. 7th\, 2024\n⌚ Time: 12:30 pm\n📍 Location: LSU Upper Lounge \nLet’s welcome the Year of the DRAGON with delicious food\, cultural delights\, and good company. 🍜🎊
URL:https://www.langarasu.ca/event/lunar-new-year-3/
LOCATION:Upper Lounge of our building
CATEGORIES:LSU Events
ATTACH;FMTTYPE=image/png:https://www.langarasu.ca/wp-content/uploads/2024/02/Lunar-New-Year-Facebook-Post-in-Red-White-Gold-Simplified-Traditional-Style.png
END:VEVENT
BEGIN:VEVENT
DTSTART;TZID=America/Vancouver:20231108T120000
DTEND;TZID=America/Vancouver:20231108T160000
DTSTAMP:20260425T074100
CREATED:20231107T182157Z
LAST-MODIFIED:20231107T182524Z
UID:2824-1699444800-1699459200@www.langarasu.ca
SUMMARY:Diwali Celebration
DESCRIPTION:🪔✨ Save the Date! Join us on November 8th for a dazzling Diwali celebration! Get ready for an afternoon of lights\, laughter\, and unforgettable memories. Don’t miss out on the festivities. See you there! 🎉🪔✨
URL:https://www.langarasu.ca/event/diwali-celebration-2/
LOCATION:Upper Lounge of our building
ATTACH;FMTTYPE=image/png:https://www.langarasu.ca/wp-content/uploads/2023/11/Untitled-design-4.png
END:VEVENT
BEGIN:VEVENT
DTSTART;TZID=America/Vancouver:20231030T100000
DTEND;TZID=America/Vancouver:20231030T150000
DTSTAMP:20260425T074100
CREATED:20231030T060632Z
LAST-MODIFIED:20231102T061342Z
UID:2820-1698660000-1698678000@www.langarasu.ca
SUMMARY:Flu Clinic
DESCRIPTION:Get your flu shot! \nThe Langara Students’ Union is hosting a flu vaccine clinic with the support of Rexall and your student Plan administrator\, Studentcare. Get the vaccine on Monday\, Oct. 30 from 10 am – 3 pm at the Student Union Building (Upper Lounge).
URL:https://www.langarasu.ca/event/flu-clinic/
CATEGORIES:LSU Events
ATTACH;FMTTYPE=image/png:https://www.langarasu.ca/wp-content/uploads/2023/11/LSU_flu_post_1.png
END:VEVENT
BEGIN:VEVENT
DTSTART;TZID=America/Vancouver:20230628T123000
DTEND;TZID=America/Vancouver:20230628T133000
DTSTAMP:20260425T074100
CREATED:20230601T181247Z
LAST-MODIFIED:20230612T182644Z
UID:2754-1687955400-1687959000@www.langarasu.ca
SUMMARY:LSU Annual General Meeting 2023
DESCRIPTION:📣 Join us for our Annual General Meeting (AGM) on June 28! 🗓️\nWe invite all members of the Langara Students’ Union to participate in our upcoming AGM. 🎉 This is an excellent opportunity to stay informed\, voice your opinions\, and contribute to the decision-making process. 🗣️\nDuring the AGM\, we will discuss important updates\, review financial reports\, and address any queries or concerns you may have. 💼📊 It’s your chance to have a direct impact on the future of our organization and ensure we continue to serve you effectively. ✨\nMark your calendars and don’t miss out! 📌 Join us at 12:30 pm* on June 28 to engage with your fellow students\, learn more about the work of the Langara Students’ Union\, and be part of the conversation that shapes our community. 🤝\nStay tuned for further details and the meeting agenda\, which will be shared closer to the event. Let’s come together to make a difference! 💪🌟\n* Registration begins at 12 pm.
URL:https://www.langarasu.ca/event/lsu-annual-general-meeting-2023/
LOCATION:Upper Lounge of our building
ATTACH;FMTTYPE=image/png:https://www.langarasu.ca/wp-content/uploads/2023/06/Teal-Abstract-Floral-Meeting-Agenda-Document.png
END:VEVENT
BEGIN:VEVENT
DTSTART;TZID=America/Vancouver:20230608T113000
DTEND;TZID=America/Vancouver:20230608T123000
DTSTAMP:20260425T074100
CREATED:20230524T223141Z
LAST-MODIFIED:20230525T051607Z
UID:2747-1686223800-1686227400@www.langarasu.ca
SUMMARY:Special General Meeting 2023
DESCRIPTION:Dear student\, \nYou’re invited to the upcoming LSU Special General Meeting (SGM)\, where LSU members will be voting on the future of legal services for students. A special resolution is being proposed to bundle an annual fee for the Legal Care Program with the LSU Health Plan fee\, in order to continue to offer students access to: \n• A legal consultation service providing unlimited access to legal advice on any area of law \n• Legal representation in cases related to employment\, housing\, and academic disputes\, as well as public notaries \nHOW TO VOTE \nJoin us to vote on the special resolution at the SGM on Thursday\, June 8\, 2023 from 11:30 am – 12:30 pm in the Langara Students’ Union Building (Upper Lounge). \nFree refreshments will be served! All LSU members are welcome. Please bring your student ID. \nQUESTIONS? \nFor more information\, see our notice of the SGM and special resolution. \nThank you in advance\, and we look forward to seeing you there!
URL:https://www.langarasu.ca/event/special-general-meeting-2023/
LOCATION:Upper Lounge of our building
CATEGORIES:LSU Events
ATTACH;FMTTYPE=image/png:https://www.langarasu.ca/wp-content/uploads/2023/05/Cream-Modern-Meeting-Invitation.png
END:VEVENT
BEGIN:VEVENT
DTSTART;TZID=America/Vancouver:20230214T140000
DTEND;TZID=America/Vancouver:20230214T160000
DTSTAMP:20260425T074100
CREATED:20230212T230032Z
LAST-MODIFIED:20230212T230032Z
UID:2712-1676383200-1676390400@www.langarasu.ca
SUMMARY:Langara Students' Union's Tea Party
DESCRIPTION:Langara Students’ Union cordially invites you to our TEA PARTY starting at 2 pm on Feb. 14 at LSU Upper Lounge.
URL:https://www.langarasu.ca/event/langara-students-unions-tea-party/
LOCATION:Upper Lounge of our building
ATTACH;FMTTYPE=image/jpeg:https://www.langarasu.ca/wp-content/uploads/2023/02/Shutterstock_2171640709.jpg
END:VEVENT
BEGIN:VEVENT
DTSTART;TZID=America/Vancouver:20230124T133000
DTEND;TZID=America/Vancouver:20230124T153000
DTSTAMP:20260425T074100
CREATED:20230212T230255Z
LAST-MODIFIED:20230212T230255Z
UID:2715-1674567000-1674574200@www.langarasu.ca
SUMMARY:Lunar New Year 2023
DESCRIPTION:Happy Lunar New Year! Happy Year of the Rabbit! 祝您新的一年快乐幸福 (zhù nín xīn de yī nián kuài lè xìng fú) – Wish you happiness and prosperity in the coming year.\nJoin us on Tuesday\, Jan 24th at 1:30 pm in the LSU Upper Lounge as we celebrate Lunar New Year.
URL:https://www.langarasu.ca/event/lunar-new-year-2023/
LOCATION:Upper Lounge of our building
ATTACH;FMTTYPE=image/jpeg:https://www.langarasu.ca/wp-content/uploads/2023/02/Shutterstock_2251091173.jpg
END:VEVENT
BEGIN:VEVENT
DTSTART;TZID=America/Vancouver:20220907T123000
DTEND;TZID=America/Vancouver:20220907T133000
DTSTAMP:20260425T074100
CREATED:20220818T001739Z
LAST-MODIFIED:20220818T001739Z
UID:2669-1662553800-1662557400@www.langarasu.ca
SUMMARY:Annual General Meeting 2022
DESCRIPTION:To be held in the LSU Building- Upper Lounge. Student ID required. Registration starts at 12 PM.
URL:https://www.langarasu.ca/event/annual-general-meeting-2022/
ATTACH;FMTTYPE=image/jpeg:https://www.langarasu.ca/wp-content/uploads/2022/08/Copy-of-Annual-Member-Meeting-Invitation-Template-Made-with-PosterMyWall-2.jpg
END:VEVENT
BEGIN:VEVENT
DTSTART;TZID=UTC:20220216T130000
DTEND;TZID=UTC:20220216T150000
DTSTAMP:20260425T074100
CREATED:20191119T015907Z
LAST-MODIFIED:20220215T231221Z
UID:2184-1645016400-1645023600@www.langarasu.ca
SUMMARY:Movie Matinee
DESCRIPTION:Screening of Eat Pray Love in the LSU Lower Lounge
URL:https://www.langarasu.ca/event/movie-matinee/
CATEGORIES:LSU Events
END:VEVENT
BEGIN:VEVENT
DTSTART;TZID=America/Vancouver:20211104T150000
DTEND;TZID=America/Vancouver:20211104T170000
DTSTAMP:20260425T074100
CREATED:20211020T194943Z
LAST-MODIFIED:20211103T193636Z
UID:2574-1636038000-1636045200@www.langarasu.ca
SUMMARY:Diwali Celebration
DESCRIPTION:Our Diwali Gift Box* is in place for students who are enrolled at Langara College in Fall Semester 2021.\nThe Diwali Gift Box application form is now closed. \n*Please note students must be able to pick up their Boxes from campus. \n**Please note that by completing this form you agree to have LSU contact you.
URL:https://www.langarasu.ca/event/diwali-celebration/
LOCATION:Upper Lounge of our building
CATEGORIES:LSU Events
END:VEVENT
BEGIN:VEVENT
DTSTART;TZID=America/Vancouver:20211028T150000
DTEND;TZID=America/Vancouver:20211028T170000
DTSTAMP:20260425T074100
CREATED:20211026T000423Z
LAST-MODIFIED:20211026T000423Z
UID:2602-1635433200-1635440400@www.langarasu.ca
SUMMARY:Halloween Flick
DESCRIPTION:Come out and watch a Halloween movie with us in the Lower Lounge of the SUB. Join us for some treats and other fun activies.
URL:https://www.langarasu.ca/event/halloween-flick/
CATEGORIES:LSU Events
END:VEVENT
BEGIN:VEVENT
DTSTART;TZID=America/Vancouver:20210914T120000
DTEND;TZID=America/Vancouver:20210914T123000
DTSTAMP:20260425T074100
CREATED:20210824T221141Z
LAST-MODIFIED:20210902T235222Z
UID:2535-1631620800-1631622600@www.langarasu.ca
SUMMARY:Annual General Meeting 2021
DESCRIPTION:To be held in the LSU Building- Upper Lounge. Student ID required.
URL:https://www.langarasu.ca/event/annual-general-meeting-2021/
ATTACH;FMTTYPE=image/jpeg:https://www.langarasu.ca/wp-content/uploads/2021/08/Copy-of-Annual-Member-Meeting-Invitation-Template-Made-with-PosterMyWall-1.jpg
END:VEVENT
BEGIN:VEVENT
DTSTART;TZID=America/Vancouver:20210914T113000
DTEND;TZID=America/Vancouver:20210914T120000
DTSTAMP:20260425T074100
CREATED:20210824T220859Z
LAST-MODIFIED:20210902T235137Z
UID:2530-1631619000-1631620800@www.langarasu.ca
SUMMARY:Annual General Meeting 2020
DESCRIPTION:To be held in the LSU Building- Upper Lounge. Student ID required.
URL:https://www.langarasu.ca/event/annual-general-meeting-2020/
ATTACH;FMTTYPE=image/jpeg:https://www.langarasu.ca/wp-content/uploads/2021/08/Copy-of-Annual-Member-Meeting-Invitation-Template-Made-with-PosterMyWall.jpg
END:VEVENT
BEGIN:VEVENT
DTSTART;TZID=UTC:20200305T120000
DTEND;TZID=UTC:20200305T143000
DTSTAMP:20260425T074100
CREATED:20200305T174402Z
LAST-MODIFIED:20210817T224404Z
UID:2250-1583409600-1583418600@www.langarasu.ca
SUMMARY:International Women's Day
DESCRIPTION:“S’ Building: Upper Lounge\nGuest speakers\, free refreshments & giveaways
URL:https://www.langarasu.ca/event/international-womens-day-2/
CATEGORIES:LSU Events
END:VEVENT
BEGIN:VEVENT
DTSTART;TZID=UTC:20200213T113000
DTEND;TZID=UTC:20200213T143000
DTSTAMP:20260425T074100
CREATED:20200212T061411Z
LAST-MODIFIED:20200212T061411Z
UID:2235-1581593400-1581604200@www.langarasu.ca
SUMMARY:Love Yourself Event
DESCRIPTION:Valentine’s Day\, but with a twist of self-love!
URL:https://www.langarasu.ca/event/love-yourself-event/
CATEGORIES:LSU Events
END:VEVENT
BEGIN:VEVENT
DTSTART;TZID=UTC:20200123T113000
DTEND;TZID=UTC:20200123T143000
DTSTAMP:20260425T074100
CREATED:20200117T050101Z
LAST-MODIFIED:20200118T050513Z
UID:2226-1579779000-1579789800@www.langarasu.ca
SUMMARY:Lunar New Year
DESCRIPTION:“S” Building- Main Foyer\nFree Asian lunch buffet\, activities\, & lion dance performance!
URL:https://www.langarasu.ca/event/lunar-new-year-2/
CATEGORIES:Stat Holidays
ATTACH;FMTTYPE=image/jpeg:https://www.langarasu.ca/wp-content/uploads/2020/01/Lunar.jpg
END:VEVENT
BEGIN:VEVENT
DTSTART;TZID=UTC:20200121T110000
DTEND;TZID=UTC:20200121T150000
DTSTAMP:20260425T074100
CREATED:20200110T071350Z
LAST-MODIFIED:20200118T050601Z
UID:2215-1579604400-1579618800@www.langarasu.ca
SUMMARY:LSU Services Day
DESCRIPTION:Main Foyer “A” Building
URL:https://www.langarasu.ca/event/lsu-services-day/
CATEGORIES:LSU Events
END:VEVENT
BEGIN:VEVENT
DTSTART;VALUE=DATE:20191226
DTEND;VALUE=DATE:20191227
DTSTAMP:20260425T074100
CREATED:20190628T161136Z
LAST-MODIFIED:20190918T012418Z
UID:2055-1577318400-1577404799@www.langarasu.ca
SUMMARY:Boxing Day
DESCRIPTION:
URL:https://www.langarasu.ca/event/boxing-day/
CATEGORIES:Stat Holidays
END:VEVENT
BEGIN:VEVENT
DTSTART;VALUE=DATE:20191225
DTEND;VALUE=DATE:20191226
DTSTAMP:20260425T074100
CREATED:20190628T160857Z
LAST-MODIFIED:20190918T012435Z
UID:2053-1577232000-1577318399@www.langarasu.ca
SUMMARY:Christmas Day
DESCRIPTION:
URL:https://www.langarasu.ca/event/christmas-day/
CATEGORIES:Stat Holidays
END:VEVENT
BEGIN:VEVENT
DTSTART;TZID=UTC:20191121T113000
DTEND;TZID=UTC:20191121T153000
DTSTAMP:20260425T074100
CREATED:20191119T020115Z
LAST-MODIFIED:20191119T020115Z
UID:2186-1574335800-1574350200@www.langarasu.ca
SUMMARY:LSU 50th Anniversary Bash
DESCRIPTION:Location: LSU Building- Upper Lounge
URL:https://www.langarasu.ca/event/lsu-50th-anniversary-bash/
CATEGORIES:LSU Events
END:VEVENT
BEGIN:VEVENT
DTSTART;VALUE=DATE:20191111
DTEND;VALUE=DATE:20191112
DTSTAMP:20260425T074100
CREATED:20190628T142550Z
LAST-MODIFIED:20190918T012448Z
UID:2051-1573430400-1573516799@www.langarasu.ca
SUMMARY:Remembrance Day
DESCRIPTION:
URL:https://www.langarasu.ca/event/remembrance-day-2/
CATEGORIES:Stat Holidays
END:VEVENT
BEGIN:VEVENT
DTSTART;TZID=UTC:20191031T113000
DTEND;TZID=UTC:20191031T150000
DTSTAMP:20260425T074100
CREATED:20191011T010001Z
LAST-MODIFIED:20191011T010001Z
UID:2157-1572521400-1572534000@www.langarasu.ca
SUMMARY:Halloween Spook-A-Thon
DESCRIPTION:Free food\, pumpkin carving contest & prizes for best costumes!
URL:https://www.langarasu.ca/event/halloween-spook-a-thon/
CATEGORIES:LSU Events
END:VEVENT
END:VCALENDAR