BEGIN:VCALENDAR
VERSION:2.0
PRODID:-// - ECPv6.11.2.1//NONSGML v1.0//EN
CALSCALE:GREGORIAN
METHOD:PUBLISH
X-ORIGINAL-URL:https://www.langarasu.ca
X-WR-CALDESC:Events for 
REFRESH-INTERVAL;VALUE=DURATION:PT1H
X-Robots-Tag:noindex
X-PUBLISHED-TTL:PT1H
BEGIN:VTIMEZONE
TZID:America/Vancouver
BEGIN:DAYLIGHT
TZOFFSETFROM:-0800
TZOFFSETTO:-0700
TZNAME:PDT
DTSTART:20250309T100000
END:DAYLIGHT
BEGIN:STANDARD
TZOFFSETFROM:-0700
TZOFFSETTO:-0800
TZNAME:PST
DTSTART:20251102T090000
END:STANDARD
BEGIN:DAYLIGHT
TZOFFSETFROM:-0800
TZOFFSETTO:-0700
TZNAME:PDT
DTSTART:20260308T100000
END:DAYLIGHT
BEGIN:STANDARD
TZOFFSETFROM:-0700
TZOFFSETTO:-0800
TZNAME:PST
DTSTART:20261101T090000
END:STANDARD
END:VTIMEZONE
BEGIN:VEVENT
DTSTART;TZID=America/Vancouver:20251030T123000
DTEND;TZID=America/Vancouver:20251030T143000
DTSTAMP:20260424T041603
CREATED:20251025T234344Z
LAST-MODIFIED:20260325T235016Z
UID:3200-1761827400-1761834600@www.langarasu.ca
SUMMARY:Happy Halloween!!
DESCRIPTION:Join us for a Halloween-themed event—no tricks\, just treats (and pumpkins)! \nStop by on October 30 from 12:30 PM to 2:30 PM at the LSU Upper Lounge for an afternoon of festive activities\, including pumpkin decorating and carving\, seasonal treats\, and a fun\, welcoming atmosphere. All materials will be provided\, and no prior experience is needed. \nStudents will have the opportunity to get creative\, socialize with peers\, and enjoy a mid-day break in a relaxed setting. Costumes are encouraged but not required. \nThis event is open to all students. Space and supplies are limited and will be available on a first-come\, first-served basis.
URL:https://www.langarasu.ca/event/happy-halloween/
LOCATION:Upper Lounge of our building
CATEGORIES:LSU Events
ATTACH;FMTTYPE=image/png:https://www.langarasu.ca/wp-content/uploads/2026/03/White-And-Orange-Pumpkin-Carving-Party-Invitation-Card-Square.png
END:VEVENT
BEGIN:VEVENT
DTSTART;TZID=America/Vancouver:20260210T123000
DTEND;TZID=America/Vancouver:20260210T143000
DTSTAMP:20260424T041603
CREATED:20260126T002741Z
LAST-MODIFIED:20260325T232844Z
UID:3188-1770726600-1770733800@www.langarasu.ca
SUMMARY:Feel the LOVE
DESCRIPTION:Celebrate Valentine’s Day with us! \nJoin us on February 10 from 12:30 PM onwards at the LSU Upper Lounge for an enjoyable afternoon filled with themed activities\, a welcoming atmosphere\, and complimentary treats. This event is a great opportunity to connect with friends\, meet new people\, and take a break from your day. \nAll students are welcome—come by and be part of the celebration! 💖
URL:https://www.langarasu.ca/event/feel-the-love/
LOCATION:Upper Lounge of our building
CATEGORIES:LSU Events
ATTACH;FMTTYPE=image/png:https://www.langarasu.ca/wp-content/uploads/2026/03/Red-Pink-and-White-Playful-Valentines-Day-Sale-Instagram-Post.png
END:VEVENT
BEGIN:VEVENT
DTSTART;TZID=America/Vancouver:20260225T123000
DTEND;TZID=America/Vancouver:20260225T150000
DTSTAMP:20260424T041603
CREATED:20260218T072111Z
LAST-MODIFIED:20260218T072230Z
UID:3178-1772022600-1772031600@www.langarasu.ca
SUMMARY:🎉🐎 Celebrate Lunar New Year with Us! 🐎🎉
DESCRIPTION:The Langara Students’ Union and Langara Global are pleased to invite students to celebrate Lunar New Year and welcome the Year of the Horse on Wednesday\, February 25 at 12:30 pm in the LSU Upper Lounge. \nThis special event brings our campus community together to recognize and celebrate the rich cultural traditions associated with Lunar New Year\, observed by many communities around the world. The program will begin at 12:30 pm\, followed by a traditional lion dance performance at 1:00 pm\, a vibrant and symbolic celebration meant to bring good fortune and prosperity for the year ahead. \nLunch will be served after the performance\, offering an opportunity to connect with classmates\, and friends while enjoying the festivities. \nAll students are welcome to attend. We look forward to celebrating the new year together in a spirit of community\, culture\, and joy.
URL:https://www.langarasu.ca/event/lunar-new-year-4/
LOCATION:Upper Lounge of our building
CATEGORIES:LSU Events
ATTACH;FMTTYPE=image/jpeg:https://www.langarasu.ca/wp-content/uploads/2026/02/WhatsApp-Image-2026-02-17-at-12.32.35.jpeg
END:VEVENT
BEGIN:VEVENT
DTSTART;TZID=America/Vancouver:20260311T080000
DTEND;TZID=America/Vancouver:20260325T170000
DTSTAMP:20260424T041603
CREATED:20260302T002900Z
LAST-MODIFIED:20260325T233506Z
UID:3195-1773216000-1774458000@www.langarasu.ca
SUMMARY:Tax Clinic
DESCRIPTION:Need help with your taxes? \nThe LSU Tax Clinic offers support to students with filing their taxes in a simple and stress-free environment. Whether you are filing for the first time or require additional guidance\, assistance will be available to help you through the process. \nCost: $25Schedule: Every WednesdayAvailability: Limited spots \nStudents are encouraged to book early to avoid missing out on potential refunds and benefits.
URL:https://www.langarasu.ca/event/tax-clinic/
CATEGORIES:LSU Events
ATTACH;FMTTYPE=image/png:https://www.langarasu.ca/wp-content/uploads/2026/03/Blue-Calculator-and-Paper-Tax-Day-Social-Media-Graphic-1.png
END:VEVENT
END:VCALENDAR