BEGIN:VCALENDAR
VERSION:2.0
PRODID:-// - ECPv6.11.2.1//NONSGML v1.0//EN
CALSCALE:GREGORIAN
METHOD:PUBLISH
X-ORIGINAL-URL:https://www.langarasu.ca
X-WR-CALDESC:Events for 
REFRESH-INTERVAL;VALUE=DURATION:PT1H
X-Robots-Tag:noindex
X-PUBLISHED-TTL:PT1H
BEGIN:VTIMEZONE
TZID:America/Vancouver
BEGIN:DAYLIGHT
TZOFFSETFROM:-0800
TZOFFSETTO:-0700
TZNAME:PDT
DTSTART:20210314T100000
END:DAYLIGHT
BEGIN:STANDARD
TZOFFSETFROM:-0700
TZOFFSETTO:-0800
TZNAME:PST
DTSTART:20211107T090000
END:STANDARD
END:VTIMEZONE
BEGIN:VTIMEZONE
TZID:UTC
BEGIN:STANDARD
TZOFFSETFROM:+0000
TZOFFSETTO:+0000
TZNAME:UTC
DTSTART:20190101T000000
END:STANDARD
END:VTIMEZONE
BEGIN:VEVENT
DTSTART;TZID=America/Vancouver:20211104T150000
DTEND;TZID=America/Vancouver:20211104T170000
DTSTAMP:20260421T151526
CREATED:20211020T194943Z
LAST-MODIFIED:20211103T193636Z
UID:2574-1636038000-1636045200@www.langarasu.ca
SUMMARY:Diwali Celebration
DESCRIPTION:Our Diwali Gift Box* is in place for students who are enrolled at Langara College in Fall Semester 2021.\nThe Diwali Gift Box application form is now closed. \n*Please note students must be able to pick up their Boxes from campus. \n**Please note that by completing this form you agree to have LSU contact you.
URL:https://www.langarasu.ca/event/diwali-celebration/
LOCATION:Upper Lounge of our building
CATEGORIES:LSU Events
END:VEVENT
BEGIN:VEVENT
DTSTART;TZID=America/Vancouver:20211028T150000
DTEND;TZID=America/Vancouver:20211028T170000
DTSTAMP:20260421T151526
CREATED:20211026T000423Z
LAST-MODIFIED:20211026T000423Z
UID:2602-1635433200-1635440400@www.langarasu.ca
SUMMARY:Halloween Flick
DESCRIPTION:Come out and watch a Halloween movie with us in the Lower Lounge of the SUB. Join us for some treats and other fun activies.
URL:https://www.langarasu.ca/event/halloween-flick/
CATEGORIES:LSU Events
END:VEVENT
BEGIN:VEVENT
DTSTART;TZID=America/Vancouver:20210914T120000
DTEND;TZID=America/Vancouver:20210914T123000
DTSTAMP:20260421T151526
CREATED:20210824T221141Z
LAST-MODIFIED:20210902T235222Z
UID:2535-1631620800-1631622600@www.langarasu.ca
SUMMARY:Annual General Meeting 2021
DESCRIPTION:To be held in the LSU Building- Upper Lounge. Student ID required.
URL:https://www.langarasu.ca/event/annual-general-meeting-2021/
ATTACH;FMTTYPE=image/jpeg:https://www.langarasu.ca/wp-content/uploads/2021/08/Copy-of-Annual-Member-Meeting-Invitation-Template-Made-with-PosterMyWall-1.jpg
END:VEVENT
BEGIN:VEVENT
DTSTART;TZID=America/Vancouver:20210914T113000
DTEND;TZID=America/Vancouver:20210914T120000
DTSTAMP:20260421T151526
CREATED:20210824T220859Z
LAST-MODIFIED:20210902T235137Z
UID:2530-1631619000-1631620800@www.langarasu.ca
SUMMARY:Annual General Meeting 2020
DESCRIPTION:To be held in the LSU Building- Upper Lounge. Student ID required.
URL:https://www.langarasu.ca/event/annual-general-meeting-2020/
ATTACH;FMTTYPE=image/jpeg:https://www.langarasu.ca/wp-content/uploads/2021/08/Copy-of-Annual-Member-Meeting-Invitation-Template-Made-with-PosterMyWall.jpg
END:VEVENT
BEGIN:VEVENT
DTSTART;TZID=UTC:20200305T120000
DTEND;TZID=UTC:20200305T143000
DTSTAMP:20260421T151526
CREATED:20200305T174402Z
LAST-MODIFIED:20210817T224404Z
UID:2250-1583409600-1583418600@www.langarasu.ca
SUMMARY:International Women's Day
DESCRIPTION:“S’ Building: Upper Lounge\nGuest speakers\, free refreshments & giveaways
URL:https://www.langarasu.ca/event/international-womens-day-2/
CATEGORIES:LSU Events
END:VEVENT
BEGIN:VEVENT
DTSTART;TZID=UTC:20200213T113000
DTEND;TZID=UTC:20200213T143000
DTSTAMP:20260421T151526
CREATED:20200212T061411Z
LAST-MODIFIED:20200212T061411Z
UID:2235-1581593400-1581604200@www.langarasu.ca
SUMMARY:Love Yourself Event
DESCRIPTION:Valentine’s Day\, but with a twist of self-love!
URL:https://www.langarasu.ca/event/love-yourself-event/
CATEGORIES:LSU Events
END:VEVENT
BEGIN:VEVENT
DTSTART;TZID=UTC:20200123T113000
DTEND;TZID=UTC:20200123T143000
DTSTAMP:20260421T151526
CREATED:20200117T050101Z
LAST-MODIFIED:20200118T050513Z
UID:2226-1579779000-1579789800@www.langarasu.ca
SUMMARY:Lunar New Year
DESCRIPTION:“S” Building- Main Foyer\nFree Asian lunch buffet\, activities\, & lion dance performance!
URL:https://www.langarasu.ca/event/lunar-new-year-2/
CATEGORIES:Stat Holidays
ATTACH;FMTTYPE=image/jpeg:https://www.langarasu.ca/wp-content/uploads/2020/01/Lunar.jpg
END:VEVENT
BEGIN:VEVENT
DTSTART;TZID=UTC:20200121T110000
DTEND;TZID=UTC:20200121T150000
DTSTAMP:20260421T151526
CREATED:20200110T071350Z
LAST-MODIFIED:20200118T050601Z
UID:2215-1579604400-1579618800@www.langarasu.ca
SUMMARY:LSU Services Day
DESCRIPTION:Main Foyer “A” Building
URL:https://www.langarasu.ca/event/lsu-services-day/
CATEGORIES:LSU Events
END:VEVENT
BEGIN:VEVENT
DTSTART;VALUE=DATE:20191226
DTEND;VALUE=DATE:20191227
DTSTAMP:20260421T151526
CREATED:20190628T161136Z
LAST-MODIFIED:20190918T012418Z
UID:2055-1577318400-1577404799@www.langarasu.ca
SUMMARY:Boxing Day
DESCRIPTION:
URL:https://www.langarasu.ca/event/boxing-day/
CATEGORIES:Stat Holidays
END:VEVENT
BEGIN:VEVENT
DTSTART;VALUE=DATE:20191225
DTEND;VALUE=DATE:20191226
DTSTAMP:20260421T151526
CREATED:20190628T160857Z
LAST-MODIFIED:20190918T012435Z
UID:2053-1577232000-1577318399@www.langarasu.ca
SUMMARY:Christmas Day
DESCRIPTION:
URL:https://www.langarasu.ca/event/christmas-day/
CATEGORIES:Stat Holidays
END:VEVENT
BEGIN:VEVENT
DTSTART;TZID=UTC:20191121T113000
DTEND;TZID=UTC:20191121T153000
DTSTAMP:20260421T151526
CREATED:20191119T020115Z
LAST-MODIFIED:20191119T020115Z
UID:2186-1574335800-1574350200@www.langarasu.ca
SUMMARY:LSU 50th Anniversary Bash
DESCRIPTION:Location: LSU Building- Upper Lounge
URL:https://www.langarasu.ca/event/lsu-50th-anniversary-bash/
CATEGORIES:LSU Events
END:VEVENT
BEGIN:VEVENT
DTSTART;VALUE=DATE:20191111
DTEND;VALUE=DATE:20191112
DTSTAMP:20260421T151526
CREATED:20190628T142550Z
LAST-MODIFIED:20190918T012448Z
UID:2051-1573430400-1573516799@www.langarasu.ca
SUMMARY:Remembrance Day
DESCRIPTION:
URL:https://www.langarasu.ca/event/remembrance-day-2/
CATEGORIES:Stat Holidays
END:VEVENT
BEGIN:VEVENT
DTSTART;TZID=UTC:20191031T113000
DTEND;TZID=UTC:20191031T150000
DTSTAMP:20260421T151526
CREATED:20191011T010001Z
LAST-MODIFIED:20191011T010001Z
UID:2157-1572521400-1572534000@www.langarasu.ca
SUMMARY:Halloween Spook-A-Thon
DESCRIPTION:Free food\, pumpkin carving contest & prizes for best costumes!
URL:https://www.langarasu.ca/event/halloween-spook-a-thon/
CATEGORIES:LSU Events
END:VEVENT
BEGIN:VEVENT
DTSTART;TZID=UTC:20191023T113000
DTEND;TZID=UTC:20191023T160000
DTSTAMP:20260421T151526
CREATED:20191011T005751Z
LAST-MODIFIED:20191011T005751Z
UID:2155-1571830200-1571846400@www.langarasu.ca
SUMMARY:Diwali Dance Party
DESCRIPTION:Free buffet & live DJ music party in the LSU Building Upper Lounge
URL:https://www.langarasu.ca/event/diwali-dance-party/
CATEGORIES:LSU Events
END:VEVENT
BEGIN:VEVENT
DTSTART;VALUE=DATE:20191014
DTEND;VALUE=DATE:20191015
DTSTAMP:20260421T151526
CREATED:20190628T142304Z
LAST-MODIFIED:20190918T012504Z
UID:2049-1571011200-1571097599@www.langarasu.ca
SUMMARY:Thanksgiving Day
DESCRIPTION:
URL:https://www.langarasu.ca/event/thanksgiving-day/
CATEGORIES:Stat Holidays
END:VEVENT
BEGIN:VEVENT
DTSTART;TZID=UTC:20191010T100000
DTEND;TZID=UTC:20191010T140000
DTSTAMP:20260421T151526
CREATED:20191002T021120Z
LAST-MODIFIED:20191002T021120Z
UID:2145-1570701600-1570716000@www.langarasu.ca
SUMMARY:LSU Elections Voting
DESCRIPTION:LSU Building- Lower Lounge
URL:https://www.langarasu.ca/event/lsu-elections-voting-4/
CATEGORIES:LSU Events
END:VEVENT
BEGIN:VEVENT
DTSTART;TZID=UTC:20191009T100000
DTEND;TZID=UTC:20191009T170000
DTSTAMP:20260421T151526
CREATED:20191002T021006Z
LAST-MODIFIED:20191002T021006Z
UID:2143-1570615200-1570640400@www.langarasu.ca
SUMMARY:LSU Elections Voting
DESCRIPTION:LSU Building- Lower Lounge
URL:https://www.langarasu.ca/event/lsu-elections-voting-3/
CATEGORIES:LSU Events
END:VEVENT
BEGIN:VEVENT
DTSTART;TZID=UTC:20191008T123000
DTEND;TZID=UTC:20191008T140000
DTSTAMP:20260421T151526
CREATED:20191002T021447Z
LAST-MODIFIED:20191002T021632Z
UID:2147-1570537800-1570543200@www.langarasu.ca
SUMMARY:Federal Member of Parliament All Candidates Forum
DESCRIPTION:LSU Building- Upper Lounge
URL:https://www.langarasu.ca/event/federal-member-of-parliament-all-candidates-forum/
CATEGORIES:LSU Events
END:VEVENT
BEGIN:VEVENT
DTSTART;TZID=UTC:20191008T100000
DTEND;TZID=UTC:20191008T170000
DTSTAMP:20260421T151526
CREATED:20191002T020838Z
LAST-MODIFIED:20191002T020838Z
UID:2141-1570528800-1570554000@www.langarasu.ca
SUMMARY:LSU Elections Voting
DESCRIPTION:Main Foyer of “A” Building
URL:https://www.langarasu.ca/event/lsu-elections-voting-2/
CATEGORIES:LSU Events
END:VEVENT
BEGIN:VEVENT
DTSTART;TZID=UTC:20191007T100000
DTEND;TZID=UTC:20191007T170000
DTSTAMP:20260421T151526
CREATED:20191002T020713Z
LAST-MODIFIED:20191002T020713Z
UID:2139-1570442400-1570467600@www.langarasu.ca
SUMMARY:LSU Elections Voting
DESCRIPTION:Main Foyer of “A” Building
URL:https://www.langarasu.ca/event/lsu-elections-voting/
CATEGORIES:LSU Events
END:VEVENT
BEGIN:VEVENT
DTSTART;TZID=UTC:20190911T110000
DTEND;TZID=UTC:20190911T143000
DTSTAMP:20260421T151526
CREATED:20190918T010624Z
LAST-MODIFIED:20190918T010813Z
UID:2103-1568199600-1568212200@www.langarasu.ca
SUMMARY:Back to School Bash- Welcome Day
DESCRIPTION:Main Foyer “A” Building
URL:https://www.langarasu.ca/event/back-to-school-bash-welcome-day/
CATEGORIES:LSU Events
END:VEVENT
BEGIN:VEVENT
DTSTART;TZID=UTC:20190910T113000
DTEND;TZID=UTC:20190910T143000
DTSTAMP:20260421T151526
CREATED:20190918T010500Z
LAST-MODIFIED:20190918T010500Z
UID:2101-1568115000-1568125800@www.langarasu.ca
SUMMARY:Back to School Bash- BBQ
DESCRIPTION:Free BBQ event\nLawn space in front of LSU Building
URL:https://www.langarasu.ca/event/back-to-school-bash-bbq/
END:VEVENT
BEGIN:VEVENT
DTSTART;TZID=UTC:20190902T000000
DTEND;TZID=UTC:20190902T230000
DTSTAMP:20260421T151526
CREATED:20190628T142056Z
LAST-MODIFIED:20190628T142056Z
UID:2047-1567382400-1567465200@www.langarasu.ca
SUMMARY:Labour Day
DESCRIPTION:
URL:https://www.langarasu.ca/event/labour-day/
CATEGORIES:Stat Holidays
END:VEVENT
BEGIN:VEVENT
DTSTART;TZID=UTC:20190805T000000
DTEND;TZID=UTC:20190805T223000
DTSTAMP:20260421T151526
CREATED:20190628T141849Z
LAST-MODIFIED:20190628T141849Z
UID:2045-1564963200-1565044200@www.langarasu.ca
SUMMARY:B.C. Day
DESCRIPTION:
URL:https://www.langarasu.ca/event/b-c-day/
CATEGORIES:Stat Holidays
END:VEVENT
BEGIN:VEVENT
DTSTART;TZID=UTC:20190718T113000
DTEND;TZID=UTC:20190718T123000
DTSTAMP:20260421T151526
CREATED:20190621T013103Z
LAST-MODIFIED:20190622T013359Z
UID:2030-1563449400-1563453000@www.langarasu.ca
SUMMARY:Annual General Meeting
DESCRIPTION:To be held in the LSU Building- Upper Lounge. Student ID required.
URL:https://www.langarasu.ca/event/annual-general-meeting/
CATEGORIES:LSU Events
END:VEVENT
BEGIN:VEVENT
DTSTART;TZID=UTC:20190701T000000
DTEND;TZID=UTC:20190701T220000
DTSTAMP:20260421T151526
CREATED:20190628T141649Z
LAST-MODIFIED:20190628T141649Z
UID:2043-1561939200-1562018400@www.langarasu.ca
SUMMARY:Canada Day
DESCRIPTION:
URL:https://www.langarasu.ca/event/canada-day/
CATEGORIES:Stat Holidays
END:VEVENT
BEGIN:VEVENT
DTSTART;TZID=UTC:20190620T113000
DTEND;TZID=UTC:20190620T143000
DTSTAMP:20260421T151526
CREATED:20190604T202720Z
LAST-MODIFIED:20190621T063403Z
UID:2024-1561030200-1561041000@www.langarasu.ca
SUMMARY:National Indigenous Peoples Day Celebration
DESCRIPTION:We will be celebrating National Indigenous Peoples Day from 11:30 am-2:30 pm at the lawn behind the LSU Building. Join us for food\, arts & crafts activities and watch drummers play traditional Native music.
URL:https://www.langarasu.ca/event/national-indigenous-peoples-day-celebration/
CATEGORIES:LSU Events
ATTACH;FMTTYPE=image/png:https://www.langarasu.ca/wp-content/uploads/2019/06/Sun.png
END:VEVENT
BEGIN:VEVENT
DTSTART;TZID=UTC:20190522T000000
DTEND;TZID=UTC:20190522T223000
DTSTAMP:20260421T151526
CREATED:20190628T141513Z
LAST-MODIFIED:20190628T141513Z
UID:2041-1558483200-1558564200@www.langarasu.ca
SUMMARY:Victoria Day
DESCRIPTION:
URL:https://www.langarasu.ca/event/victoria-day/
CATEGORIES:Stat Holidays
END:VEVENT
BEGIN:VEVENT
DTSTART;TZID=UTC:20190513T100000
DTEND;TZID=UTC:20190516T140000
DTSTAMP:20260421T151526
CREATED:20190515T234211Z
LAST-MODIFIED:20190515T234346Z
UID:1944-1557741600-1558015200@www.langarasu.ca
SUMMARY:U-Pass BC Referendum
DESCRIPTION:Voting for the future of the U-Pass BC program will be done via a referendum from May 13- May 16 in the Main Foyer of the “A” Building. Please bring your student ID card and exercise your right to vote.
URL:https://www.langarasu.ca/event/u-pass-bc-referendum/
CATEGORIES:LSU Events
END:VEVENT
BEGIN:VEVENT
DTSTART;TZID=UTC:20190422T000000
DTEND;TZID=UTC:20190422T233000
DTSTAMP:20260421T151526
CREATED:20190628T141229Z
LAST-MODIFIED:20190628T141229Z
UID:2039-1555891200-1555975800@www.langarasu.ca
SUMMARY:Easter Monday
DESCRIPTION:
URL:https://www.langarasu.ca/event/easter-monday/
CATEGORIES:Stat Holidays
END:VEVENT
END:VCALENDAR