BEGIN:VCALENDAR
VERSION:2.0
PRODID:-// - ECPv6.11.2.1//NONSGML v1.0//EN
CALSCALE:GREGORIAN
METHOD:PUBLISH
X-ORIGINAL-URL:https://www.langarasu.ca
X-WR-CALDESC:Events for 
REFRESH-INTERVAL;VALUE=DURATION:PT1H
X-Robots-Tag:noindex
X-PUBLISHED-TTL:PT1H
BEGIN:VTIMEZONE
TZID:America/Vancouver
BEGIN:DAYLIGHT
TZOFFSETFROM:-0800
TZOFFSETTO:-0700
TZNAME:PDT
DTSTART:20250309T100000
END:DAYLIGHT
BEGIN:STANDARD
TZOFFSETFROM:-0700
TZOFFSETTO:-0800
TZNAME:PST
DTSTART:20251102T090000
END:STANDARD
END:VTIMEZONE
BEGIN:VEVENT
DTSTART;TZID=America/Vancouver:20250203T080000
DTEND;TZID=America/Vancouver:20250203T170000
DTSTAMP:20260424T144253
CREATED:20250212T065537Z
LAST-MODIFIED:20250212T065537Z
UID:3017-1738569600-1738602000@www.langarasu.ca
SUMMARY:💖 Spread the Love at LSU! 💖
DESCRIPTION:Join us on Wednesday\, Feb 12 at 12:30 PM  in the LSU Upper Lounge for a fun-filled Valentine’s celebration! 💌✨ Enjoy sweet treats\, fun activities\, and movie marathons with good vibes as we share the love with our Langara community! 💕 \nDon’t miss out—see you there! 😍
URL:https://www.langarasu.ca/event/%f0%9f%92%96-spread-the-love-at-lsu-%f0%9f%92%96/
LOCATION:Upper Lounge of our building
CATEGORIES:LSU Events
ATTACH;FMTTYPE=image/png:https://www.langarasu.ca/wp-content/uploads/2025/02/Red-Pink-Modern-Happy-Valentines-Day-Facebook-Post.png
END:VEVENT
BEGIN:VEVENT
DTSTART;TZID=America/Vancouver:20250205T123000
DTEND;TZID=America/Vancouver:20250205T143000
DTSTAMP:20260424T144253
CREATED:20250203T203427Z
LAST-MODIFIED:20250203T203753Z
UID:3010-1738758600-1738765800@www.langarasu.ca
SUMMARY:🎉🐍 Celebrate the Lunar New Year with us! 🐍🎉
DESCRIPTION:Join us in the LSU Upper Lounge on Feb 5 at 12:30 PM for a festive celebration! Enjoy traditional treats and good vibes—while supplies last! ✨🥠🎊
URL:https://www.langarasu.ca/event/lunar-new-year-event/
LOCATION:Upper Lounge of our building
CATEGORIES:LSU Events
ATTACH;FMTTYPE=image/png:https://www.langarasu.ca/wp-content/uploads/2025/02/Happy-lunar-new-year.png
END:VEVENT
END:VCALENDAR